BEGIN:VCALENDAR
VERSION:2.0
PRODID:-//InStaff und Jobs GmbH
BEGIN:VEVENT
UID:acb8acccd9483b591e396b32dcadcb3d@instaff.jobs
DTSTAMP:20260425T203402Z
LOCATION:Messe Basel\, Messeplatz\, 4058 Basel
DTSTART;TZID=Europe/Brussels:20161029T070000Z
DTEND;TZID=Europe/Brussels:20161106T160000Z
SUMMARY:Basler Herbstwarenmesse
DESCRIPTION:https://www.google.com/maps/search/?api=1&query=Messe+Basel%2C+Messeplatz%2C+4058+Basel
END:VEVENT
END:VCALENDAR