BEGIN:VCALENDAR
VERSION:2.0
PRODID:-//InStaff und Jobs GmbH
BEGIN:VEVENT
UID:9864ee7d58bdc61b88d3dc98d98d4739@instaff.jobs
DTSTAMP:20260425T203454Z
LOCATION:Messe Basel\, Messeplatz\, 4058 Basel
DTSTART;TZID=Europe/Brussels:20161029T070000Z
DTEND;TZID=Europe/Brussels:20161106T160000Z
SUMMARY:Basler Weinmesse
DESCRIPTION:https://www.google.com/maps/search/?api=1&query=Messe+Basel%2C+Messeplatz%2C+4058+Basel
END:VEVENT
END:VCALENDAR