BEGIN:VCALENDAR
VERSION:2.0
PRODID:-//InStaff und Jobs GmbH
BEGIN:VEVENT
UID:2845f0fbc959627571e7ecbac7e33586@instaff.jobs
DTSTAMP:20260426T012645Z
LOCATION:Messe Dresden\, Messering 6\, 01067 Dresden
DTSTART;TZID=Europe/Brussels:20161105T070000Z
DTEND;TZID=Europe/Brussels:20161106T160000Z
SUMMARY:Schriftgut
DESCRIPTION:https://www.google.com/maps/search/?api=1&query=Messe+Dresden%2C+Messering+6%2C+01067+Dresden
END:VEVENT
END:VCALENDAR