BEGIN:VCALENDAR
VERSION:2.0
PRODID:-//InStaff und Jobs GmbH
BEGIN:VEVENT
UID:d2f68b91fa024cc9ae0719be617037f1@instaff.jobs
DTSTAMP:20260419T121644Z
LOCATION:Congress Centrum Wienecke XI\, Hildesheimer Straße 380\, 30519 Hannover
DTSTART;TZID=Europe/Brussels:20160903T070000Z
DTEND;TZID=Europe/Brussels:20160904T160000Z
SUMMARY:3 Congress der Deutschen Hebammen Zeitschrift
DESCRIPTION:https://www.google.com/maps/search/?api=1&query=Congress+Centrum+Wienecke+XI%2C+Hildesheimer+Straße+380%2C+30519+Hannover
END:VEVENT
END:VCALENDAR