BEGIN:VCALENDAR
VERSION:2.0
PRODID:-//InStaff und Jobs GmbH
BEGIN:VEVENT
UID:0afbae364b533339ae38fefa3fb597bd@instaff.jobs
DTSTAMP:20260419T115228Z
LOCATION:Humboldtschule\, Ricklinger Straße 95\, 30449 Hannover
DTSTART;TZID=Europe/Brussels:20160213T070000Z
DTEND;TZID=Europe/Brussels:20160213T160000Z
SUMMARY:JuBi Hannover
DESCRIPTION:https://www.google.com/maps/search/?api=1&query=Humboldtschule%2C+Ricklinger+Straße+95%2C+30449+Hannover
END:VEVENT
END:VCALENDAR