BEGIN:VCALENDAR
VERSION:2.0
PRODID:-//InStaff und Jobs GmbH
BEGIN:VEVENT
UID:e619ff0eb657197f72cdfd7f08945738@instaff.jobs
DTSTAMP:20260419T121623Z
LOCATION:Hannover Congress Centrum\, Theodor-Heuss-Platz 1-3\, 30175 Hannover
DTSTART;TZID=Europe/Brussels:20160527T070000Z
DTEND;TZID=Europe/Brussels:20160529T160000Z
SUMMARY:Maker Faire Hannover
DESCRIPTION:https://www.google.com/maps/search/?api=1&query=Hannover+Congress+Centrum%2C+Theodor-Heuss-Platz+1-3%2C+30175+Hannover
END:VEVENT
END:VCALENDAR