BEGIN:VCALENDAR
VERSION:2.0
PRODID:-//InStaff und Jobs GmbH
BEGIN:VEVENT
UID:8e21a08b5ac8cf06076729dbd86a5e43@instaff.jobs
DTSTAMP:20260419T115228Z
LOCATION:Hannover Congress Centrum\, Theodor-Heuss-Platz 1-3\, 30175 Hannover
DTSTART;TZID=Europe/Brussels:20160827T070000Z
DTEND;TZID=Europe/Brussels:20160827T160000Z
SUMMARY:Stuzubi Hannover
DESCRIPTION:https://www.google.com/maps/search/?api=1&query=Hannover+Congress+Centrum%2C+Theodor-Heuss-Platz+1-3%2C+30175+Hannover
END:VEVENT
END:VCALENDAR