BEGIN:VCALENDAR
VERSION:2.0
PRODID:-//InStaff und Jobs GmbH
BEGIN:VEVENT
UID:8466cf4d50b3398ebdb46633fa70e29f@instaff.jobs
DTSTAMP:20260419T121553Z
LOCATION:Messegelände Hannover\, Hermesallee\, 30521 Hannover
DTSTART;TZID=Europe/Brussels:20160216T070000Z
DTEND;TZID=Europe/Brussels:20160218T160000Z
SUMMARY:Tire Technology 2016
DESCRIPTION:https://www.google.com/maps/search/?api=1&query=Messegelände+Hannover%2C+Hermesallee%2C+30521+Hannover
END:VEVENT
END:VCALENDAR