BEGIN:VCALENDAR
VERSION:2.0
PRODID:-//InStaff und Jobs GmbH
BEGIN:VEVENT
UID:e870871e8c7c8b181eda18287f8abd3f@instaff.jobs
DTSTAMP:20260426T012653Z
LOCATION:Köln Messe\, Messeplatz 1\, 50679 Köln
DTSTART;TZID=Europe/Brussels:20161026T070000Z
DTEND;TZID=Europe/Brussels:20161028T160000Z
SUMMARY:HK 2016
DESCRIPTION:https://www.google.com/maps/search/?api=1&query=Köln+Messe%2C+Messeplatz+1%2C+50679+Köln
END:VEVENT
END:VCALENDAR