BEGIN:VCALENDAR
VERSION:2.0
PRODID:-//InStaff und Jobs GmbH
BEGIN:VEVENT
UID:812823439572a1d38e570cb5388c7570@instaff.jobs
DTSTAMP:20260426T011326Z
LOCATION:Köln Messe\, Messeplatz 1\, 50679 Köln
DTSTART;TZID=Europe/Brussels:20160131T070000Z
DTEND;TZID=Europe/Brussels:20160203T160000Z
SUMMARY:ProSweets Cologne
DESCRIPTION:https://www.google.com/maps/search/?api=1&query=Köln+Messe%2C+Messeplatz+1%2C+50679+Köln
END:VEVENT
END:VCALENDAR