BEGIN:VCALENDAR
VERSION:2.0
PRODID:-//InStaff und Jobs GmbH
BEGIN:VEVENT
UID:ee26bf3b0ffdbcf2914cb067d952acf1@instaff.jobs
DTSTAMP:20260421T103220Z
LOCATION:
DTSTART;TZID=Europe/Brussels:20160109T070000Z
DTEND;TZID=Europe/Brussels:20160110T160000Z
SUMMARY:Hochzeitsmesse Leipzig
DESCRIPTION:
END:VEVENT
END:VCALENDAR