BEGIN:VCALENDAR
VERSION:2.0
PRODID:-//InStaff und Jobs GmbH
BEGIN:VEVENT
UID:e4551f64e252494a6658abde4ca5e00b@instaff.jobs
DTSTAMP:20260419T121553Z
LOCATION:Leipziger Messe\, Messe-Allee 1\, 04356 Leipzig
DTSTART;TZID=Europe/Brussels:20160317T070000Z
DTEND;TZID=Europe/Brussels:20160320T160000Z
SUMMARY:Manga-Comic-Convention
DESCRIPTION:https://www.google.com/maps/search/?api=1&query=Leipziger+Messe%2C+Messe-Allee+1%2C+04356+Leipzig
END:VEVENT
END:VCALENDAR