BEGIN:VCALENDAR
VERSION:2.0
PRODID:-//InStaff und Jobs GmbH
BEGIN:VEVENT
UID:4befb5f5fccf332e90c6ad4ddcb87690@instaff.jobs
DTSTAMP:20260424T193626Z
LOCATION:Holiday Inn Munich City Centre\, Hochstraße 3\, 81669 München
DTSTART;TZID=Europe/Brussels:20160526T070000Z
DTEND;TZID=Europe/Brussels:20160528T160000Z
SUMMARY:59 Symposium der DGE
DESCRIPTION:https://www.google.com/maps/search/?api=1&query=Holiday+Inn+Munich+City+Centre%2C+Hochstraße+3%2C+81669+München
END:VEVENT
END:VCALENDAR