BEGIN:VCALENDAR
VERSION:2.0
PRODID:-//InStaff und Jobs GmbH
BEGIN:VEVENT
UID:c6f2cfc8e435686dd5066babbfd43900@instaff.jobs
DTSTAMP:20260424T193446Z
LOCATION:Messe München\, Messegelände\, 81823 München
DTSTART;TZID=Europe/Brussels:20160510T070000Z
DTEND;TZID=Europe/Brussels:20160513T160000Z
SUMMARY:analytica 2016
DESCRIPTION:https://www.google.com/maps/search/?api=1&query=Messe+München%2C+Messegelände%2C+81823+München
END:VEVENT
END:VCALENDAR