BEGIN:VCALENDAR
VERSION:2.0
PRODID:-//InStaff und Jobs GmbH
BEGIN:VEVENT
UID:74779b6b48855d602b779e9be975cdda@instaff.jobs
DTSTAMP:20260424T193505Z
LOCATION:Praterinsel\, Praterinsel 3-4\, 80538 München
DTSTART;TZID=Europe/Brussels:20160602T070000Z
DTEND;TZID=Europe/Brussels:20160605T160000Z
SUMMARY:ARTMUC
DESCRIPTION:https://www.google.com/maps/search/?api=1&query=Praterinsel%2C+Praterinsel+3-4%2C+80538+München
END:VEVENT
END:VCALENDAR