BEGIN:VCALENDAR
VERSION:2.0
PRODID:-//InStaff und Jobs GmbH
BEGIN:VEVENT
UID:be00681cd6c47a17d948fe6e96362f35@instaff.jobs
DTSTAMP:20260424T193327Z
LOCATION:Postpalast\, Wredestr\. 10\, 80335 München
DTSTART;TZID=Europe/Brussels:20160408T070000Z
DTEND;TZID=Europe/Brussels:20160410T160000Z
SUMMARY:Blickfang
DESCRIPTION:https://www.google.com/maps/search/?api=1&query=Postpalast%2C+Wredestr.+10%2C+80335+München
END:VEVENT
END:VCALENDAR