BEGIN:VCALENDAR
VERSION:2.0
PRODID:-//InStaff und Jobs GmbH
BEGIN:VEVENT
UID:507c53e8abb29f89cbc9ea312cb21e68@instaff.jobs
DTSTAMP:20260424T193645Z
LOCATION:MOC Veranstaltungscenter\, Lilienthalallee 40\, 80939 München
DTSTART;TZID=Europe/Brussels:20160608T070000Z
DTEND;TZID=Europe/Brussels:20160609T160000Z
SUMMARY:CosmeticBusiness
DESCRIPTION:https://www.google.com/maps/search/?api=1&query=MOC+Veranstaltungscenter%2C+Lilienthalallee+40%2C+80939+München
END:VEVENT
END:VCALENDAR