BEGIN:VCALENDAR
VERSION:2.0
PRODID:-//InStaff und Jobs GmbH
BEGIN:VEVENT
UID:0e45d4f36cf0dd95eee19f31a40ddeb3@instaff.jobs
DTSTAMP:20260424T193809Z
LOCATION:Paulaner am Nockherberg\, Hochstraße 77\, 81541 München
DTSTART;TZID=Europe/Brussels:20160406T070000Z
DTEND;TZID=Europe/Brussels:20160406T160000Z
SUMMARY:Eagles Fashion Dinner
DESCRIPTION:https://www.google.com/maps/search/?api=1&query=Paulaner+am+Nockherberg%2C+Hochstraße+77%2C+81541+München
END:VEVENT
END:VCALENDAR