BEGIN:VCALENDAR
VERSION:2.0
PRODID:-//InStaff und Jobs GmbH
BEGIN:VEVENT
UID:aad6066fd3c950bebc95f0673906b2e4@instaff.jobs
DTSTAMP:20260424T193720Z
LOCATION:Messe München\, Messegelände\, 81823 München
DTSTART;TZID=Europe/Brussels:20160912T070000Z
DTEND;TZID=Europe/Brussels:20160916T160000Z
SUMMARY:EASD Annual Meeting
DESCRIPTION:https://www.google.com/maps/search/?api=1&query=Messe+München%2C+Messegelände%2C+81823+München
END:VEVENT
END:VCALENDAR