BEGIN:VCALENDAR
VERSION:2.0
PRODID:-//InStaff und Jobs GmbH
BEGIN:VEVENT
UID:9af5f9e298c283b8b26f95b7f1c4b4f6@instaff.jobs
DTSTAMP:20260424T192627Z
LOCATION:Messe München\, Messegelände\, 81823 München
DTSTART;TZID=Europe/Brussels:20160620T070000Z
DTEND;TZID=Europe/Brussels:20160624T160000Z
SUMMARY:Eu Pvsce
DESCRIPTION:https://www.google.com/maps/search/?api=1&query=Messe+München%2C+Messegelände%2C+81823+München
END:VEVENT
END:VCALENDAR