BEGIN:VCALENDAR
VERSION:2.0
PRODID:-//InStaff und Jobs GmbH
BEGIN:VEVENT
UID:d8b08f3c515f5506faae09333181df0b@instaff.jobs
DTSTAMP:20260424T193626Z
LOCATION:Messe München\, Messegelände\, 81823 München
DTSTART;TZID=Europe/Brussels:20160224T070000Z
DTEND;TZID=Europe/Brussels:20160301T160000Z
SUMMARY:Handwerk & Design
DESCRIPTION:https://www.google.com/maps/search/?api=1&query=Messe+München%2C+Messegelände%2C+81823+München
END:VEVENT
END:VCALENDAR