BEGIN:VCALENDAR
VERSION:2.0
PRODID:-//InStaff und Jobs GmbH
BEGIN:VEVENT
UID:7f77416ae68d48fffd7782dcc6d5f436@instaff.jobs
DTSTAMP:20260424T193446Z
LOCATION:MOC Veranstaltungscenter\, Lilienthalallee 40\, 80939 München
DTSTART;TZID=Europe/Brussels:20160505T070000Z
DTEND;TZID=Europe/Brussels:20160508T160000Z
SUMMARY:HIGH END 2016
DESCRIPTION:https://www.google.com/maps/search/?api=1&query=MOC+Veranstaltungscenter%2C+Lilienthalallee+40%2C+80939+München
END:VEVENT
END:VCALENDAR