BEGIN:VCALENDAR
VERSION:2.0
PRODID:-//InStaff und Jobs GmbH
BEGIN:VEVENT
UID:53cda33878c3a8f2a48a3cc1d2dd05a7@instaff.jobs
DTSTAMP:20260424T193521Z
LOCATION:Messe München\, Messegelände\, 81823 München
DTSTART;TZID=Europe/Brussels:20160622T070000Z
DTEND;TZID=Europe/Brussels:20160624T160000Z
SUMMARY:Intersolar Europe 2016
DESCRIPTION:https://www.google.com/maps/search/?api=1&query=Messe+München%2C+Messegelände%2C+81823+München
END:VEVENT
END:VCALENDAR