BEGIN:VCALENDAR
VERSION:2.0
PRODID:-//InStaff und Jobs GmbH
BEGIN:VEVENT
UID:566c6999ef18b24a8647d91611b04143@instaff.jobs
DTSTAMP:20260424T193625Z
LOCATION:Messe München\, Messegelände\, 81823 München
DTSTART;TZID=Europe/Brussels:20160124T070000Z
DTEND;TZID=Europe/Brussels:20160127T160000Z
SUMMARY:ISPO MUNICH 2016
DESCRIPTION:https://www.google.com/maps/search/?api=1&query=Messe+München%2C+Messegelände%2C+81823+München
END:VEVENT
END:VCALENDAR