BEGIN:VCALENDAR
VERSION:2.0
PRODID:-//InStaff und Jobs GmbH
BEGIN:VEVENT
UID:c066222d2b80283777dd4b331d670683@instaff.jobs
DTSTAMP:20260424T193549Z
LOCATION:MOC Veranstaltungscenter\, Lilienthalallee 40\, 80939 München
DTSTART;TZID=Europe/Brussels:20160123T070000Z
DTEND;TZID=Europe/Brussels:20160124T160000Z
SUMMARY:jobmesse
DESCRIPTION:https://www.google.com/maps/search/?api=1&query=MOC+Veranstaltungscenter%2C+Lilienthalallee+40%2C+80939+München
END:VEVENT
END:VCALENDAR