BEGIN:VCALENDAR
VERSION:2.0
PRODID:-//InStaff und Jobs GmbH
BEGIN:VEVENT
UID:ecf1da1f3a3c122bf191468d6a8b67d9@instaff.jobs
DTSTAMP:20260424T192525Z
LOCATION:Messe München\, Messegelände\, 81823 München
DTSTART;TZID=Europe/Brussels:20160405T070000Z
DTEND;TZID=Europe/Brussels:20160407T160000Z
SUMMARY:LOPEC
DESCRIPTION:https://www.google.com/maps/search/?api=1&query=Messe+München%2C+Messegelände%2C+81823+München
END:VEVENT
END:VCALENDAR