BEGIN:VCALENDAR
VERSION:2.0
PRODID:-//InStaff und Jobs GmbH
BEGIN:VEVENT
UID:d9839c9e1d34cacc374d88ed5885169b@instaff.jobs
DTSTAMP:20260424T193343Z
LOCATION:Messe München\, Messegelände\, 81823 München
DTSTART;TZID=Europe/Brussels:20160621T070000Z
DTEND;TZID=Europe/Brussels:20160623T160000Z
SUMMARY:maintain 2016
DESCRIPTION:https://www.google.com/maps/search/?api=1&query=Messe+München%2C+Messegelände%2C+81823+München
END:VEVENT
END:VCALENDAR