BEGIN:VCALENDAR
VERSION:2.0
PRODID:-//InStaff und Jobs GmbH
BEGIN:VEVENT
UID:8bab4656c1055bc5cb11721271cd156c@instaff.jobs
DTSTAMP:20260424T193850Z
LOCATION:P1 Club\, Prinzregentenstraße 1\, 80538 München
DTSTART;TZID=Europe/Brussels:20160627T070000Z
DTEND;TZID=Europe/Brussels:20160627T160000Z
SUMMARY:Movie meets Media
DESCRIPTION:https://www.google.com/maps/search/?api=1&query=P1+Club%2C+Prinzregentenstraße+1%2C+80538+München
END:VEVENT
END:VCALENDAR