BEGIN:VCALENDAR
VERSION:2.0
PRODID:-//InStaff und Jobs GmbH
BEGIN:VEVENT
UID:1a09cb9b252e0db3c329465804869537@instaff.jobs
DTSTAMP:20260424T193549Z
LOCATION:MOC Veranstaltungscenter\, Lilienthalallee 40\, 80939 München
DTSTART;TZID=Europe/Brussels:20160202T070000Z
DTEND;TZID=Europe/Brussels:20160204T160000Z
SUMMARY:Munich Fabric Start
DESCRIPTION:https://www.google.com/maps/search/?api=1&query=MOC+Veranstaltungscenter%2C+Lilienthalallee+40%2C+80939+München
END:VEVENT
END:VCALENDAR