BEGIN:VCALENDAR
VERSION:2.0
PRODID:-//InStaff und Jobs GmbH
BEGIN:VEVENT
UID:38a67861f5e3579df9358ae6b214a1f2@instaff.jobs
DTSTAMP:20260424T193645Z
LOCATION:Olympia Reitanlage\, Landshamer Straße 11\, 81929 München
DTSTART;TZID=Europe/Brussels:20160505T070000Z
DTEND;TZID=Europe/Brussels:20160508T160000Z
SUMMARY:Pferd International 2016
DESCRIPTION:https://www.google.com/maps/search/?api=1&query=Olympia+Reitanlage%2C+Landshamer+Straße+11%2C+81929+München
END:VEVENT
END:VCALENDAR