BEGIN:VCALENDAR
VERSION:2.0
PRODID:-//InStaff und Jobs GmbH
BEGIN:VEVENT
UID:f843d9c046e2bc55601a5f7965a81bb2@instaff.jobs
DTSTAMP:20260424T193947Z
LOCATION:MOC Veranstaltungscenter\, Lilienthalallee 40\, 80939 München
DTSTART;TZID=Europe/Brussels:20160706T070000Z
DTEND;TZID=Europe/Brussels:20160707T160000Z
SUMMARY:SicherheitsExpo
DESCRIPTION:https://www.google.com/maps/search/?api=1&query=MOC+Veranstaltungscenter%2C+Lilienthalallee+40%2C+80939+München
END:VEVENT
END:VCALENDAR