BEGIN:VCALENDAR
VERSION:2.0
PRODID:-//InStaff und Jobs GmbH
BEGIN:VEVENT
UID:ab1ccf12a9f0053374b8e3dd02901c8c@instaff.jobs
DTSTAMP:20260424T193957Z
LOCATION:Streetlife Festival\, Ludwigstraße und Leopoldstraße\, 80804 München
DTSTART;TZID=Europe/Brussels:20160611T070000Z
DTEND;TZID=Europe/Brussels:20160612T160000Z
SUMMARY:Streetlife Festival
DESCRIPTION:https://www.google.com/maps/search/?api=1&query=Streetlife+Festival%2C+Ludwigstraße+und+Leopoldstraße%2C+80804+München
END:VEVENT
END:VCALENDAR