BEGIN:VCALENDAR
VERSION:2.0
PRODID:-//InStaff und Jobs GmbH
BEGIN:VEVENT
UID:af234ac64b21312716d5af0fc22c13a5@instaff.jobs
DTSTAMP:20260424T193957Z
LOCATION:München Innenstadt\, Leopoldstraße\, 80804 München
DTSTART;TZID=Europe/Brussels:20160910T070000Z
DTEND;TZID=Europe/Brussels:20160911T160000Z
SUMMARY:Streetlife Festival
DESCRIPTION:https://www.google.com/maps/search/?api=1&query=München+Innenstadt%2C+Leopoldstraße%2C+80804+München
END:VEVENT
END:VCALENDAR