BEGIN:VCALENDAR
VERSION:2.0
PRODID:-//InStaff und Jobs GmbH
BEGIN:VEVENT
UID:797ba798e4d1251b75b4bc903dafed42@instaff.jobs
DTSTAMP:20260424T193850Z
LOCATION:MTC world of fashion München\, Taunusstraße 45\, 80807 München
DTSTART;TZID=Europe/Brussels:20160213T070000Z
DTEND;TZID=Europe/Brussels:20160216T160000Z
SUMMARY:Supreme Women&Men
DESCRIPTION:https://www.google.com/maps/search/?api=1&query=MTC+world+of+fashion+München%2C+Taunusstraße+45%2C+80807+München
END:VEVENT
END:VCALENDAR