BEGIN:VCALENDAR
VERSION:2.0
PRODID:-//InStaff und Jobs GmbH
BEGIN:VEVENT
UID:ef4246fe4bfd564e31aa4338d923cc0f@instaff.jobs
DTSTAMP:20260424T193327Z
LOCATION:MVG Museum\, Ständlerstraße 20\, 81549 München
DTSTART;TZID=Europe/Brussels:20160705T070000Z
DTEND;TZID=Europe/Brussels:20160706T160000Z
SUMMARY:VIEW
DESCRIPTION:https://www.google.com/maps/search/?api=1&query=MVG+Museum%2C+Ständlerstraße+20%2C+81549+München
END:VEVENT
END:VCALENDAR