BEGIN:VCALENDAR
VERSION:2.0
PRODID:-//InStaff und Jobs GmbH
BEGIN:VEVENT
UID:5de598d1953fd49d0c4facf377aa30e6@instaff.jobs
DTSTAMP:20260419T160750Z
LOCATION:Theater und Konzerthaus Solingen\, Konrad-Adenauer-Straße 71\, 42651 Solingen
DTSTART;TZID=Europe/Brussels:20160312T070000Z
DTEND;TZID=Europe/Brussels:20160313T160000Z
SUMMARY:46 Solinger Autoschau
DESCRIPTION:https://www.google.com/maps/search/?api=1&query=Theater+und+Konzerthaus+Solingen%2C+Konrad-Adenauer-Straße+71%2C+42651+Solingen
END:VEVENT
END:VCALENDAR