BEGIN:VCALENDAR
VERSION:2.0
PRODID:-//InStaff und Jobs GmbH
BEGIN:VEVENT
UID:fcea40d4819c4654338bc26a829249fb@instaff.jobs
DTSTAMP:20260425T195808Z
LOCATION:Vogel Convention\, Center Max-Planck-Straße 7\/9\, 97064 Würzburg
DTSTART;TZID=Europe/Brussels:20161015T070000Z
DTEND;TZID=Europe/Brussels:20161016T160000Z
SUMMARY:Die Hochzeitsmesse in Würzburg
DESCRIPTION:https://www.google.com/maps/search/?api=1&query=Vogel+Convention%2C+Center+Max-Planck-Straße+7/9%2C+97064+Würzburg
END:VEVENT
END:VCALENDAR