BEGIN:VCALENDAR
VERSION:2.0
PRODID:-//InStaff und Jobs GmbH
BEGIN:VEVENT
UID:50e3920865f13323b7b2b50bba6f3595@instaff.jobs
DTSTAMP:20260425T214701Z
LOCATION:s\.Oliver Arena Würzburg\, Stettiner Straße 1\, 97072 Würzburg
DTSTART;TZID=Europe/Brussels:20160705T070000Z
DTEND;TZID=Europe/Brussels:20160706T160000Z
SUMMARY:vocatium Unterfranken
DESCRIPTION:https://www.google.com/maps/search/?api=1&query=s.Oliver+Arena+Würzburg%2C+Stettiner+Straße+1%2C+97072+Würzburg
END:VEVENT
BEGIN:VEVENT
UID:0768f624b6abe136cb116cd9d2c0839e@instaff.jobs
DTSTAMP:20260425T214701Z
LOCATION:Congress Centrum Würzburg\, Pleichertorstraße 12\, 97070 Würzburg
DTSTART;TZID=Europe/Brussels:20160907T070000Z
DTEND;TZID=Europe/Brussels:20160910T160000Z
SUMMARY:DGMP Jahrestagung & ISMRM Jahrestagung
DESCRIPTION:https://www.google.com/maps/search/?api=1&query=Congress+Centrum+Würzburg%2C+Pleichertorstraße+12%2C+97070+Würzburg
END:VEVENT
BEGIN:VEVENT
UID:c10aebf999ef890128edd1ff02fd44dc@instaff.jobs
DTSTAMP:20260425T214701Z
LOCATION:Maritim Hotel Würzburg\, Pleichertorstraße 5\, 97070 Würzburg
DTSTART;TZID=Europe/Brussels:20161006T070000Z
DTEND;TZID=Europe/Brussels:20161007T160000Z
SUMMARY:Deutscher Stahlbautag
DESCRIPTION:https://www.google.com/maps/search/?api=1&query=Maritim+Hotel+Würzburg%2C+Pleichertorstraße+5%2C+97070+Würzburg
END:VEVENT
BEGIN:VEVENT
UID:b4150373af4a248356aaa066d5283419@instaff.jobs
DTSTAMP:20260425T214701Z
LOCATION:Vogel Convention\, Center Max-Planck-Straße 7\/9\, 97064 Würzburg
DTSTART;TZID=Europe/Brussels:20161015T070000Z
DTEND;TZID=Europe/Brussels:20161016T160000Z
SUMMARY:Die Hochzeitsmesse in Würzburg
DESCRIPTION:https://www.google.com/maps/search/?api=1&query=Vogel+Convention%2C+Center+Max-Planck-Straße+7/9%2C+97064+Würzburg
END:VEVENT
END:VCALENDAR