BEGIN:VCALENDAR
VERSION:2.0
PRODID:-//InStaff und Jobs GmbH
BEGIN:VEVENT
UID:53888ad50ec1b206bbfce563ad6e76db@instaff.jobs
DTSTAMP:20260425T120841Z
LOCATION:Messe Berlin\, Messedamm 22\, 14055 Berlin
DTSTART;TZID=Europe/Brussels:20171103T070000Z
DTEND;TZID=Europe/Brussels:20171105T160000Z
SUMMARY:Babywelt Berlin
DESCRIPTION:https://www.google.com/maps/search/?api=1&query=Messe+Berlin%2C+Messedamm+22%2C+14055+Berlin
END:VEVENT
END:VCALENDAR