BEGIN:VCALENDAR
VERSION:2.0
PRODID:-//InStaff und Jobs GmbH
BEGIN:VEVENT
UID:857c5599abca279591db899807d00b7a@instaff.jobs
DTSTAMP:20260425T122101Z
LOCATION:Palazzo Italia – Römischer Hof\, Unter den Linden 10\, 10117 Berlin
DTSTART;TZID=Europe/Brussels:20170318T070000Z
DTEND;TZID=Europe/Brussels:20170319T160000Z
SUMMARY:Das eigene Haus – Wohneigentum – Energie
DESCRIPTION:https://www.google.com/maps/search/?api=1&query=Palazzo+Italia+–+Römischer+Hof%2C+Unter+den+Linden+10%2C+10117+Berlin
END:VEVENT
END:VCALENDAR