BEGIN:VCALENDAR
VERSION:2.0
PRODID:-//InStaff und Jobs GmbH
BEGIN:VEVENT
UID:9231415b813dd3cbc79eb95a83b0fb2a@instaff.jobs
DTSTAMP:20260425T120533Z
LOCATION:Messe Berlin\, Messedamm 22\, 14055 Berlin
DTSTART;TZID=Europe/Brussels:20170208T070000Z
DTEND;TZID=Europe/Brussels:20170210T160000Z
SUMMARY:FRUIT LOGISTICA 2017
DESCRIPTION:https://www.google.com/maps/search/?api=1&query=Messe+Berlin%2C+Messedamm+22%2C+14055+Berlin
END:VEVENT
END:VCALENDAR