BEGIN:VCALENDAR
VERSION:2.0
PRODID:-//InStaff und Jobs GmbH
BEGIN:VEVENT
UID:995de95b958ea52f33db46fb84a47526@instaff.jobs
DTSTAMP:20260425T123254Z
LOCATION:Messe Essen\, Messeplatz 1\, 45131 Essen
DTSTART;TZID=Europe/Brussels:20170318T070000Z
DTEND;TZID=Europe/Brussels:20170326T160000Z
SUMMARY:EQUITANA
DESCRIPTION:https://www.google.com/maps/search/?api=1&query=Messe+Essen%2C+Messeplatz+1%2C+45131+Essen
END:VEVENT
END:VCALENDAR