BEGIN:VCALENDAR
VERSION:2.0
PRODID:-//InStaff und Jobs GmbH
BEGIN:VEVENT
UID:753643c4fcd1e055cf398e32805387d7@instaff.jobs
DTSTAMP:20260425T123232Z
LOCATION:Messe Essen\, Messeplatz 1\, 45131 Essen
DTSTART;TZID=Europe/Brussels:20170124T070000Z
DTEND;TZID=Europe/Brussels:20170127T160000Z
SUMMARY:IPM
DESCRIPTION:https://www.google.com/maps/search/?api=1&query=Messe+Essen%2C+Messeplatz+1%2C+45131+Essen
END:VEVENT
END:VCALENDAR