BEGIN:VCALENDAR
VERSION:2.0
PRODID:-//InStaff und Jobs GmbH
BEGIN:VEVENT
UID:41fe9ee2488443adab955cf11e3be8f5@instaff.jobs
DTSTAMP:20260425T103751Z
LOCATION:Messe Essen\, Messeplatz 1\, 45131 Essen
DTSTART;TZID=Europe/Brussels:20170124T070000Z
DTEND;TZID=Europe/Brussels:20170127T160000Z
SUMMARY:IPM
DESCRIPTION:https://www.google.com/maps/search/?api=1&query=Messe+Essen%2C+Messeplatz+1%2C+45131+Essen
END:VEVENT
BEGIN:VEVENT
UID:c22d76ef6bbcc0ee87911bd7b16a8fbc@instaff.jobs
DTSTAMP:20260425T103751Z
LOCATION:Messe Essen\, Messeplatz 1\, 45131 Essen
DTSTART;TZID=Europe/Brussels:20170207T070000Z
DTEND;TZID=Europe/Brussels:20170209T160000Z
SUMMARY:E-world energy & water 2017
DESCRIPTION:https://www.google.com/maps/search/?api=1&query=Messe+Essen%2C+Messeplatz+1%2C+45131+Essen
END:VEVENT
BEGIN:VEVENT
UID:1cf9232d96752dc46272014355e9a7ee@instaff.jobs
DTSTAMP:20260425T103751Z
LOCATION:Messe Essen\, Messeplatz 1\, 45131 Essen
DTSTART;TZID=Europe/Brussels:20170215T070000Z
DTEND;TZID=Europe/Brussels:20170219T160000Z
SUMMARY:Reisen + Camping 2017
DESCRIPTION:https://www.google.com/maps/search/?api=1&query=Messe+Essen%2C+Messeplatz+1%2C+45131+Essen
END:VEVENT
BEGIN:VEVENT
UID:44d5ea808df75902d053e894f6557d90@instaff.jobs
DTSTAMP:20260425T103751Z
LOCATION:Messe Essen\, Messeplatz 1\, 45131 Essen
DTSTART;TZID=Europe/Brussels:20170318T070000Z
DTEND;TZID=Europe/Brussels:20170326T160000Z
SUMMARY:EQUITANA
DESCRIPTION:https://www.google.com/maps/search/?api=1&query=Messe+Essen%2C+Messeplatz+1%2C+45131+Essen
END:VEVENT
BEGIN:VEVENT
UID:f4aef3137a8d09b1011463f9d72ed2fa@instaff.jobs
DTSTAMP:20260425T103751Z
LOCATION:Messe Essen\, Messeplatz 1\, 45131 Essen
DTSTART;TZID=Europe/Brussels:20170405T070000Z
DTEND;TZID=Europe/Brussels:20170409T160000Z
SUMMARY:Techno Classica
DESCRIPTION:https://www.google.com/maps/search/?api=1&query=Messe+Essen%2C+Messeplatz+1%2C+45131+Essen
END:VEVENT
BEGIN:VEVENT
UID:95828871a997cf744abc5c39915b3d05@instaff.jobs
DTSTAMP:20260425T103751Z
LOCATION:Messe Essen\, Messeplatz 1\, 45131 Essen
DTSTART;TZID=Europe/Brussels:20170421T070000Z
DTEND;TZID=Europe/Brussels:20170423T160000Z
SUMMARY:European Bridal Week
DESCRIPTION:https://www.google.com/maps/search/?api=1&query=Messe+Essen%2C+Messeplatz+1%2C+45131+Essen
END:VEVENT
BEGIN:VEVENT
UID:e245b5188f7152eb20959ac73be9bb83@instaff.jobs
DTSTAMP:20260425T103751Z
LOCATION:Messe Essen\, Messeplatz 1\, 45131 Essen
DTSTART;TZID=Europe/Brussels:20170502T070000Z
DTEND;TZID=Europe/Brussels:20170506T160000Z
SUMMARY:METPACK
DESCRIPTION:https://www.google.com/maps/search/?api=1&query=Messe+Essen%2C+Messeplatz+1%2C+45131+Essen
END:VEVENT
BEGIN:VEVENT
UID:25ab6b70e235beee1364c7a0f5ba2fbf@instaff.jobs
DTSTAMP:20260425T103751Z
LOCATION:Messe Essen\, Messeplatz 1\, 45131 Essen
DTSTART;TZID=Europe/Brussels:20171026T070000Z
DTEND;TZID=Europe/Brussels:20171029T160000Z
SUMMARY:Spielmesse Essen 2017 in Essen
DESCRIPTION:https://www.google.com/maps/search/?api=1&query=Messe+Essen%2C+Messeplatz+1%2C+45131+Essen
END:VEVENT
BEGIN:VEVENT
UID:207726a57748e144f4bb54713a57a94b@instaff.jobs
DTSTAMP:20260425T103751Z
LOCATION:Messe Essen\, Messeplatz 1\, 45131 Essen
DTSTART;TZID=Europe/Brussels:20171111T070000Z
DTEND;TZID=Europe/Brussels:20171119T160000Z
SUMMARY:Mode Heim Handwerk
DESCRIPTION:https://www.google.com/maps/search/?api=1&query=Messe+Essen%2C+Messeplatz+1%2C+45131+Essen
END:VEVENT
BEGIN:VEVENT
UID:b2efd055e86e9f4f0946e5f63d11ddbf@instaff.jobs
DTSTAMP:20260425T103751Z
LOCATION:Messe Essen\, Messeplatz 1\, 45131 Essen
DTSTART;TZID=Europe/Brussels:20171201T070000Z
DTEND;TZID=Europe/Brussels:20171210T160000Z
SUMMARY:Essen Motor Show
DESCRIPTION:https://www.google.com/maps/search/?api=1&query=Messe+Essen%2C+Messeplatz+1%2C+45131+Essen
END:VEVENT
END:VCALENDAR