BEGIN:VCALENDAR
VERSION:2.0
PRODID:-//InStaff und Jobs GmbH
BEGIN:VEVENT
UID:fb956f4f9962df83de11081ab366d2ad@instaff.jobs
DTSTAMP:20260425T135427Z
LOCATION:Messe Frankfurt\, Ludwig-Erhard-Anlage 1\, 60327 Frankfurt
DTSTART;TZID=Europe/Brussels:20170210T070000Z
DTEND;TZID=Europe/Brussels:20170214T160000Z
SUMMARY:ambiente
DESCRIPTION:https://www.google.com/maps/search/?api=1&query=Messe+Frankfurt%2C+Ludwig-Erhard-Anlage+1%2C+60327+Frankfurt
END:VEVENT
END:VCALENDAR