BEGIN:VCALENDAR
VERSION:2.0
PRODID:-//InStaff und Jobs GmbH
BEGIN:VEVENT
UID:7b0f723414063ffeccc3c7df5269257e@instaff.jobs
DTSTAMP:20260425T135438Z
LOCATION:Messe Frankfurt\, Ludwig-Erhard-Anlage 1\, 60327 Frankfurt
DTSTART;TZID=Europe/Brussels:20170314T070000Z
DTEND;TZID=Europe/Brussels:20170318T160000Z
SUMMARY:ISH
DESCRIPTION:https://www.google.com/maps/search/?api=1&query=Messe+Frankfurt%2C+Ludwig-Erhard-Anlage+1%2C+60327+Frankfurt
END:VEVENT
END:VCALENDAR