BEGIN:VCALENDAR
VERSION:2.0
PRODID:-//InStaff und Jobs GmbH
BEGIN:VEVENT
UID:f053bf48bea209b991b9d45e65143615@instaff.jobs
DTSTAMP:20260425T140512Z
LOCATION:Messe Frankfurt\, Ludwig-Erhard-Anlage 1\, 60327 Frankfurt
DTSTART;TZID=Europe/Brussels:20171027T070000Z
DTEND;TZID=Europe/Brussels:20171029T160000Z
SUMMARY:Marathonmall 2017 in Frankfurt
DESCRIPTION:https://www.google.com/maps/search/?api=1&query=Messe+Frankfurt%2C+Ludwig-Erhard-Anlage+1%2C+60327+Frankfurt
END:VEVENT
END:VCALENDAR