BEGIN:VCALENDAR
VERSION:2.0
PRODID:-//InStaff und Jobs GmbH
BEGIN:VEVENT
UID:5d87ddc6f7b23deec081e0393d695a59@instaff.jobs
DTSTAMP:20260425T135745Z
LOCATION:Hannover Messe\, Messegelände\, 30521 Hannover
DTSTART;TZID=Europe/Brussels:20170424T070000Z
DTEND;TZID=Europe/Brussels:20170428T160000Z
SUMMARY:HANNOVER MESSE 2017
DESCRIPTION:https://www.google.com/maps/search/?api=1&query=Hannover+Messe%2C+Messegelände%2C+30521+Hannover
END:VEVENT
END:VCALENDAR