BEGIN:VCALENDAR
VERSION:2.0
PRODID:-//InStaff und Jobs GmbH
BEGIN:VEVENT
UID:0958e6903d2333fcf86a38153aee05d6@instaff.jobs
DTSTAMP:20260425T135653Z
LOCATION:Messegelände Hannover\, Hermesallee\, 30521 Hannover
DTSTART;TZID=Europe/Brussels:20171207T070000Z
DTEND;TZID=Europe/Brussels:20171210T160000Z
SUMMARY:Pferd & Jagd
DESCRIPTION:https://www.google.com/maps/search/?api=1&query=Messegelände+Hannover%2C+Hermesallee%2C+30521+Hannover
END:VEVENT
END:VCALENDAR