BEGIN:VCALENDAR
VERSION:2.0
PRODID:-//InStaff und Jobs GmbH
BEGIN:VEVENT
UID:a32e9d39734c88bbf9ec515d69cf5dc6@instaff.jobs
DTSTAMP:20260425T104236Z
LOCATION:Messe Berlin\, Messedamm 22\, 14055 Berlin
DTSTART;TZID=Europe/Brussels:20180907T070000Z
DTEND;TZID=Europe/Brussels:20180909T160000Z
SUMMARY:Boot & Fun inwater
DESCRIPTION:https://www.google.com/maps/search/?api=1&query=Messe+Berlin%2C+Messedamm+22%2C+14055+Berlin
END:VEVENT
END:VCALENDAR